Workbook
Name ____sub1: #N/A
Name ____sub1: #N/A
Name ____sub2: #N/A
Name ____sub2: #N/A
Name ____sub3: #N/A
Name ____sub3: #N/A
Name _sub1: #N/A
Name _sub2: #N/A
Name _sub3: #N/A
Name a: #N/A
Name a: #N/A
Name a: #N/A
Name ABC: #N/A
Name AREA: #N/A
Name AREA: #N/A
Name AREA: #N/A
Name B: #N/A
Name B: #N/A
Name B: #N/A
Name BDI: #N/A
Name BDI: #N/A
Name BDI: #N/A
Name DOLAR: [1]INSUMOS!$G$8
Name EMPRESAS: #N/A
Name Excel_BuiltIn_Print_Area_2: #N/A
Name Excel_BuiltIn_Print_Area_2: #N/A
Name Excel_BuiltIn_Print_Area_2_1: #N/A
Name Excel_BuiltIn_Print_Area_2_1: #N/A
Name Excel_BuiltIn_Print_Area_2_1_1: #N/A
Name Excel_BuiltIn_Print_Area_2_1_1: #N/A
Name Excel_BuiltIn_Print_Area_2_1_1_1: #N/A
Name Excel_BuiltIn_Print_Area_2_1_1_1: #N/A
Name Excel_BuiltIn_Print_Area_4: #N/A
Name Excel_BuiltIn_Print_Area_4: #N/A
Name INDICES: #N/A
Name obra: #N/A
Name obra: #N/A
Name obra: #N/A
Name obra1: #N/A
Name obra1: #N/A
Name obra1: #N/A
Name obra2: #N/A
Name obra2: #N/A
Name obra2: #N/A
Name obra3: #N/A
Name obra3: #N/A
Name obra3: #N/A
Name obra4: #N/A
Name obra4: #N/A
Name obra4: #N/A
Name obra5: #N/A
Name obra5: #N/A
Name obra5: #N/A
Name P.1: #N/A
Name P.1: #N/A
Name P.1: #N/A
Name P.10: #N/A
Name P.10: #N/A
Name P.10: #N/A
Name P.11: #N/A

Sheet Planilha Não Desonerada
A1: [TIMBRE DA EMPRESA]
A2: PLANILHA ORÇAMENTÁRIA DE CUSTOS
A3: MUNICÍPIO/UF: | B3: PIRAUBA/ MG
A4: OBJETO: | B4: =D9 -> PAVIMENTAÇÃO DE VIAS URBANAS | F4: FORMA DE EXECUÇÃO: | I4: EMPREITADA A PREÇO GLOBAL
A5: LOCAL: | B5: BAIRRO CENTRO E BAIRRO JOÃO GROPPO
A6: REFERÊNCIA: | B6: SINAPI Composições e Insumos/DEZEMBRO/2021 (NÃO DESONERADO) | SETOP Leste/OUTUBRO-2021 (NÃO DESONERADO) | F6: BDI | J6: <--- Preencher percentual de BDI aplicado na proposta
A7: PRAZO DE EXECUÇÃO: | C7: 4 meses | F7: DATA DE PREENCHIMENTO | J7: <--- Preencher Data da Proposta
A8: ITENS / SUBITENS | B8: FONTE | C8: CÓDIGO | D8: DESCRIÇÃO DOS SERVIÇOS | E8: UNID. | F8: QUANT. | G8: PR. UNIT.(R$) S/ BDI | H8: PR. UNIT.(R$) C/ BDI | I8: VALOR TOTAL C/BDI (R$)
D9: PAVIMENTAÇÃO DE VIAS URBANAS
B10: PAVIMENTAÇÃO | K10: Valor unitário de referência
A11: 1 | B11: BAIRRO JOÃO GROPPO | I11: =I12+I14+I20+I26+I32+I38 -> 0
A12: 1.1 | D12: SERVIÇOS PRELIMINARES | I12: =SUM(I13) -> 0
A13: 1.1.1 | B13: SETOP | C13: ED-16660 | D13: FORNECIMENTO E COLOCAÇÃO DE PLACA DE OBRA EM CHAPA GALVANIZADA #26, ESP. 0,45 MM, PLOTADA COM ADESIVO VINÍLICO, AFIXADA COM REBITES 4,8X40 MM, EM ESTRUTURA METÁLICA DE METALON 20X20 MM, ESP. 1,25 MM, INCLUSIVE SUPORTE EM EUCALIPTO AUTOCLAVADO PINTADO COM TINTA PVA DUAS (2) DEMÃOS | E13: M2 | F13: 4.5 | H13: =ROUND(ROUND(G13,2)*($I$6+1),2) -> 0 | I13: =ROUND(H13*F13,2) -> 0 | K13: 193.82 | L13: =ROUND(K13*(1+$I$6),2) -> 193.82
A14: 1.2 | D14: MARGINAL OPEMÁ | I14: =SUM(I15:I19) -> 0 | L14: =ROUND(K14*(1+$I$6),2) -> 0
A15: 1.2.1 | B15: COMPOSIÇÃO | C15: 1 | D15: SARJETA DE CONCRETO URBANO (SCU), TIPO 1, COM FCK 15 MPA, LARGURA DE 30CM COM INCLINAÇÃO DE 3%, ESP. 7CM, PADRÃO DEER-MG, EXCLUSIVE MEIO-FIO, INCLUSIVE ESCAVAÇÃO, APILAOMENTO E TRANSPORTE COM RETIRADA DO MATERIAL ESCAVADO (EM CAÇAMBA) (EMBAZADA EM ED-14762) | E15: M | F15: 610.3 | H15: =ROUND(ROUND(G15,2)*($I$6+1),2) -> 0 | I15: =ROUND(H15*F15,2) -> 0 | K15: 17.71 | L15: =ROUND(K15*(1+$I$6),2) -> 17.71
A16: 1.2.2 | B16: SETOP | C16: RO-51229 | D16: PINTURA DE LIGAÇÃO (EXECUÇÃO E FORNECIMENTO DO MATERIAL BETUMINOSO, EXCLUSIVE TRANSPORTE DO MATERIAL BETUMINOSO) | E16: M2 | F16: 1564.64 | H16: =ROUND(ROUND(G16,2)*($I$6+1),2) -> 0 | I16: =ROUND(H16*F16,2) -> 0 | K16: 1.97 | L16: =ROUND(K16*(1+$I$6),2) -> 1.97
A17: 1.2.3 | B17: SETOP | C17: RO-41376 | D17: TRANSPORTE DE MATERIAL DE QUALQUER NATUREZA. DISTÂNCIA MÉDIA DE TRANSPORTE >= 50,10 KM | E17: TXKM | F17: 211.23 | H17: =ROUND(ROUND(G17,2)*($I$6+1),2) -> 0 | I17: =ROUND(H17*F17,2) -> 0 | K17: 0.6 | L17: =ROUND(K17*(1+$I$6),2) -> 0.6
A18: 1.2.4 | B18: SETOP | C18: ED-7623 | D18: EXECUÇÃO E APLICAÇÃO DE CONCRETO BETUMINOSO USINADO A QUENTE (CBUQ), MASSA COMERCIAL, INCLUINDO FORNECIMENTO E TRANSPORTE DOS AGREGADOS E MATERIAL BETUMINOSO, EXCLUSIVE TRANSPORTE DA MASSA ASFÁLTICA ATÉ A PISTA | E18: M3 | F18: 78.23 | H18: =ROUND(ROUND(G18,2)*($I$6+1),2) -> 0 | I18: =ROUND(H18*F18,2) -> 0 | K18: 1249.36 | L18: =ROUND(K18*(1+$I$6),2) -> 1249.36
A19: 1.2.5 | B19: SETOP | C19: RO-41363 | D19: TRANSPORTE DE CONCRETO BETUMINOSO USINADO A QUENTE. DISTÂNCIA MÉDIA DE TRANSPORTE DE 15,10 A 20,00 KM (DENSIDADE DE MATERIAL SOLTO) | E19: M3XKM | F19: 1535.26 | H19: =ROUND(ROUND(G19,2)*($I$6+1),2) -> 0 | I19: =ROUND(H19*F19,2) -> 0 | K19: 1.21 | L19: =ROUND(K19*(1+$I$6),2) -> 1.21
A20: 1.3 | D20: RUA DOS TUPIS | I20: =SUM(I21:I25) -> 0 | L20: =ROUND(K20*(1+$I$6),2) -> 0
A21: 1.3.1 | B21: COMPOSIÇÃO | C21: 1 | D21: SARJETA DE CONCRETO URBANO (SCU), TIPO 1, COM FCK 15 MPA, LARGURA DE 30CM COM INCLINAÇÃO DE 3%, ESP. 7CM, PADRÃO DEER-MG, EXCLUSIVE MEIO-FIO, INCLUSIVE ESCAVAÇÃO, APILAOMENTO E TRANSPORTE COM RETIRADA DO MATERIAL ESCAVADO (EM CAÇAMBA) (EMBAZADA EM ED-14762) | E21: M | F21: 425.21 | G21: =G15 -> 0 | H21: =ROUND(ROUND(G21,2)*($I$6+1),2) -> 0 | I21: =ROUND(H21*F21,2) -> 0 | K21: 17.71 | L21: =ROUND(K21*(1+$I$6),2) -> 17.71
A22: 1.3.2 | B22: SETOP | C22: RO-51229 | D22: PINTURA DE LIGAÇÃO (EXECUÇÃO E FORNECIMENTO DO MATERIAL BETUMINOSO, EXCLUSIVE TRANSPORTE DO MATERIAL BETUMINOSO) | E22: M2 | F22: 1150.79 | G22: =$G$16 -> 0 | H22: =ROUND(ROUND(G22,2)*($I$6+1),2) -> 0 | I22: =ROUND(H22*F22,2) -> 0 | K22: 1.97 | L22: =ROUND(K22*(1+$I$6),2) -> 1.97
A23: 1.3.3 | B23: SETOP | C23: RO-41376 | D23: TRANSPORTE DE MATERIAL DE QUALQUER NATUREZA. DISTÂNCIA MÉDIA DE TRANSPORTE >= 50,10 KM | E23: TXKM | F23: 155.36 | G23: =G17 -> 0 | H23: =ROUND(ROUND(G23,2)*($I$6+1),2) -> 0 | I23: =ROUND(H23*F23,2) -> 0 | K23: 0.6 | L23: =ROUND(K23*(1+$I$6),2) -> 0.6
A24: 1.3.4 | B24: SETOP | C24: ED-7623 | D24: EXECUÇÃO E APLICAÇÃO DE CONCRETO BETUMINOSO USINADO A QUENTE (CBUQ), MASSA COMERCIAL, INCLUINDO FORNECIMENTO E TRANSPORTE DOS AGREGADOS E MATERIAL BETUMINOSO, EXCLUSIVE TRANSPORTE DA MASSA ASFÁLTICA ATÉ A PISTA | E24: M3 | F24: 57.54 | G24: =G18 -> 0 | H24: =ROUND(ROUND(G24,2)*($I$6+1),2) -> 0 | I24: =ROUND(H24*F24,2) -> 0 | K24: 1249.36 | L24: =ROUND(K24*(1+$I$6),2) -> 1249.36
A25: 1.3.5 | B25: SETOP | C25: RO-41363 | D25: TRANSPORTE DE CONCRETO BETUMINOSO USINADO A QUENTE. DISTÂNCIA MÉDIA DE TRANSPORTE DE 15,10 A 20,00 KM (DENSIDADE DE MATERIAL SOLTO) | E25: M3XKM | F25: 1129.22 | G25: =G19 -> 0 | H25: =ROUND(ROUND(G25,2)*($I$6+1),2) -> 0 | I25: =ROUND(H25*F25,2) -> 0 | K25: 1.21 | L25: =ROUND(K25*(1+$I$6),2) -> 1.21
A26: 1.4 | D26: RUA MARIA GERALDA VIEIRA | I26: =SUM(I27:I31) -> 0 | L26: =ROUND(K26*(1+$I$6),2) -> 0
A27: 1.4.1 | B27: COMPOSIÇÃO | C27: 1 | D27: SARJETA DE CONCRETO URBANO (SCU), TIPO 1, COM FCK 15 MPA, LARGURA DE 30CM COM INCLINAÇÃO DE 3%, ESP. 7CM, PADRÃO DEER-MG, EXCLUSIVE MEIO-FIO, INCLUSIVE ESCAVAÇÃO, APILAOMENTO E TRANSPORTE COM RETIRADA DO MATERIAL ESCAVADO (EM CAÇAMBA) (EMBAZADA EM ED-14762) | E27: M | F27: 444.97 | G27: =G15 -> 0 | H27: =ROUND(ROUND(G27,2)*($I$6+1),2) -> 0 | I27: =ROUND(H27*F27,2) -> 0 | K27: 17.71 | L27: =ROUND(K27*(1+$I$6),2) -> 17.71
A28: 1.4.2 | B28: SETOP | C28: RO-51229 | D28: PINTURA DE LIGAÇÃO (EXECUÇÃO E FORNECIMENTO DO MATERIAL BETUMINOSO, EXCLUSIVE TRANSPORTE DO MATERIAL BETUMINOSO) | E28: M2 | F28: 1201.27 | G28: =$G$16 -> 0 | H28: =ROUND(ROUND(G28,2)*($I$6+1),2) -> 0 | I28: =ROUND(H28*F28,2) -> 0 | K28: 1.97 | L28: =ROUND(K28*(1+$I$6),2) -> 1.97
A29: 1.4.3 | B29: SETOP | C29: RO-41376 | D29: TRANSPORTE DE MATERIAL DE QUALQUER NATUREZA. DISTÂNCIA MÉDIA DE TRANSPORTE >= 50,10 KM | E29: TXKM | F29: 162.17 | G29: =G17 -> 0 | H29: =ROUND(ROUND(G29,2)*($I$6+1),2) -> 0 | I29: =ROUND(H29*F29,2) -> 0 | K29: 0.6 | L29: =ROUND(K29*(1+$I$6),2) -> 0.6
A30: 1.4.4 | B30: SETOP | C30: ED-7623 | D30: EXECUÇÃO E APLICAÇÃO DE CONCRETO BETUMINOSO USINADO A QUENTE (CBUQ), MASSA COMERCIAL, INCLUINDO FORNECIMENTO E TRANSPORTE DOS AGREGADOS E MATERIAL BETUMINOSO, EXCLUSIVE TRANSPORTE DA MASSA ASFÁLTICA ATÉ A PISTA | E30: M3 | F30: 60.06 | G30: =G18 -> 0 | H30: =ROUND(ROUND(G30,2)*($I$6+1),2) -> 0 | I30: =ROUND(H30*F30,2) -> 0 | K30: 1249.36 | L30: =ROUND(K30*(1+$I$6),2) -> 1249.36
A31: 1.4.5 | B31: SETOP | C31: RO-41363 | D31: TRANSPORTE DE CONCRETO BETUMINOSO USINADO A QUENTE. DISTÂNCIA MÉDIA DE TRANSPORTE DE 15,10 A 20,00 KM (DENSIDADE DE MATERIAL SOLTO) | E31: M3XKM | F31: 1178.68 | G31: =G19 -> 0 | H31: =ROUND(ROUND(G31,2)*($I$6+1),2) -> 0 | I31: =ROUND(H31*F31,2) -> 0 | K31: 1.21 | L31: =ROUND(K31*(1+$I$6),2) -> 1.21
A32: 1.5 | D32: RUA THEREZINHA VALADARES SOARES | I32: =SUM(I33:I37) -> 0 | L32: =ROUND(K32*(1+$I$6),2) -> 0
A33: 1.5.1 | B33: COMPOSIÇÃO | C33: 1 | D33: SARJETA DE CONCRETO URBANO (SCU), TIPO 1, COM FCK 15 MPA, LARGURA DE 30CM COM INCLINAÇÃO DE 3%, ESP. 7CM, PADRÃO DEER-MG, EXCLUSIVE MEIO-FIO, INCLUSIVE ESCAVAÇÃO, APILAOMENTO E TRANSPORTE COM RETIRADA DO MATERIAL ESCAVADO (EM CAÇAMBA) (EMBAZADA EM ED-14762) | E33: M | F33: 289.49 | G33: =G15 -> 0 | H33: =ROUND(ROUND(G33,2)*($I$6+1),2) -> 0 | I33: =ROUND(H33*F33,2) -> 0 | K33: 17.71 | L33: =ROUND(K33*(1+$I$6),2) -> 17.71
A34: 1.5.2 | B34: SETOP | C34: RO-51229 | D34: PINTURA DE LIGAÇÃO (EXECUÇÃO E FORNECIMENTO DO MATERIAL BETUMINOSO, EXCLUSIVE TRANSPORTE DO MATERIAL BETUMINOSO) | E34: M2 | F34: 971.42 | G34: =$G$16 -> 0 | H34: =ROUND(ROUND(G34,2)*($I$6+1),2) -> 0 | I34: =ROUND(H34*F34,2) -> 0 | K34: 1.97 | L34: =ROUND(K34*(1+$I$6),2) -> 1.97
A35: 1.5.3 | B35: SETOP | C35: RO-41376 | D35: TRANSPORTE DE MATERIAL DE QUALQUER NATUREZA. DISTÂNCIA MÉDIA DE TRANSPORTE >= 50,10 KM | E35: TXKM | F35: 131.14 | G35: =G17 -> 0 | H35: =ROUND(ROUND(G35,2)*($I$6+1),2) -> 0 | I35: =ROUND(H35*F35,2) -> 0 | K35: 0.6 | L35: =ROUND(K35*(1+$I$6),2) -> 0.6
A36: 1.5.4 | B36: SETOP | C36: ED-7623 | D36: EXECUÇÃO E APLICAÇÃO DE CONCRETO BETUMINOSO USINADO A QUENTE (CBUQ), MASSA COMERCIAL, INCLUINDO FORNECIMENTO E TRANSPORTE DOS AGREGADOS E MATERIAL BETUMINOSO, EXCLUSIVE TRANSPORTE DA MASSA ASFÁLTICA ATÉ A PISTA | E36: M3 | F36: 48.57 | G36: =G18 -> 0 | H36: =ROUND(ROUND(G36,2)*($I$6+1),2) -> 0 | I36: =ROUND(H36*F36,2) -> 0 | K36: 1249.36 | L36: =ROUND(K36*(1+$I$6),2) -> 1249.36
A37: 1.5.5 | B37: SETOP | C37: RO-41363 | D37: TRANSPORTE DE CONCRETO BETUMINOSO USINADO A QUENTE. DISTÂNCIA MÉDIA DE TRANSPORTE DE 15,10 A 20,00 KM (DENSIDADE DE MATERIAL SOLTO) | E37: M3XKM | F37: 953.19 | G37: =G19 -> 0 | H37: =ROUND(ROUND(G37,2)*($I$6+1),2) -> 0 | I37: =ROUND(H37*F37,2) -> 0 | K37: 1.21 | L37: =ROUND(K37*(1+$I$6),2) -> 1.21
A38: 1.6 | D38: ACESSO | I38: =SUM(I39:I43) -> 0 | L38: =ROUND(K38*(1+$I$6),2) -> 0
A39: 1.6.1 | B39: COMPOSIÇÃO | C39: 1 | D39: SARJETA DE CONCRETO URBANO (SCU), TIPO 1, COM FCK 15 MPA, LARGURA DE 30CM COM INCLINAÇÃO DE 3%, ESP. 7CM, PADRÃO DEER-MG, EXCLUSIVE MEIO-FIO, INCLUSIVE ESCAVAÇÃO, APILAOMENTO E TRANSPORTE COM RETIRADA DO MATERIAL ESCAVADO (EM CAÇAMBA) (EMBAZADA EM ED-14762) | E39: M | F39: 389.37 | G39: =G15 -> 0 | H39: =ROUND(ROUND(G39,2)*($I$6+1),2) -> 0 | I39: =ROUND(H39*F39,2) -> 0 | K39: 17.71 | L39: =ROUND(K39*(1+$I$6),2) -> 17.71
A40: 1.6.2 | B40: SETOP | C40: RO-51229 | D40: PINTURA DE LIGAÇÃO (EXECUÇÃO E FORNECIMENTO DO MATERIAL BETUMINOSO, EXCLUSIVE TRANSPORTE DO MATERIAL BETUMINOSO) | E40: M2 | F40: 389.37 | G40: =$G$16 -> 0 | H40: =ROUND(ROUND(G40,2)*($I$6+1),2) -> 0 | I40: =ROUND(H40*F40,2) -> 0 | K40: 1.97 | L40: =ROUND(K40*(1+$I$6),2) -> 1.97
...

Sheet Cronograma
A1: CRONOGRAMA FÍSICO-FINANCEIRO GLOBAL
A3: 1 - IDENTIFICAÇÃO
A5: MUNICÍPIO/UF: | B5: PIRAUBA/ MG | G5: OBJETO: | H5: PAVIMENTAÇÃO DE VIAS URBANAS (BAIRRO CENTRO E BAIRRO JOÃO GROPPO)
A7: ITEM | B7: DISCRIMINAÇÃO | D7: VALOR DOS SERVIÇOS | E7: PESO % | F7: SERVIÇOS A EXECUTAR
F8: MÊS 01 | H8: MÊS 02 | J8: MÊS 03 | L8: MÊS 04
F9: SIMPL.% | G9: ACUM. % | H9: SIMPL.% | I9: ACUM. % | J9: SIMPL.% | K9: ACUM. % | L9: SIMPL.% | M9: ACUM. %
A10: 1.0 | B10: BAIRRO JOÃO GROPPO
A11: 1.1 | B11: SERVIÇOS PRELIMINARES | D11: ='Planilha Não Desonerada'!I12 -> 0 | E11: =D11/$D$27 -> #DIV/0! | G11: =F11 -> 0 | I11: =H11+G11 -> 0 | K11: =J11+I11 -> 0 | M11: =L11+K11 -> 0 | N11: =SUM(F11+H11+J11+L11) -> 0 | O11: =IF(N11<>1,"Conferir porcentagens estipuladas","") -> Conferir porcentagens estipuladas
A12: 1.2 | B12: MARGINAL OPEMÁ | D12: ='Planilha Não Desonerada'!I14 -> 0 | E12: =D12/$D$27 -> #DIV/0! | G12: =F12 -> 0 | I12: =H12+G12 -> 0 | K12: =J12+I12 -> 0 | M12: =L12+K12 -> 0 | N12: =SUM(F12+H12+J12+L12) -> 0 | O12: =IF(N12<>1,"Conferir porcentagens estipuladas","") -> Conferir porcentagens estipuladas
A13: 1.3 | B13: RUA DOS TUPIS | D13: ='Planilha Não Desonerada'!I20 -> 0 | E13: =D13/$D$27 -> #DIV/0! | G13: =F13 -> 0 | I13: =H13+G13 -> 0 | K13: =J13+I13 -> 0 | M13: =L13+K13 -> 0 | N13: =SUM(F13+H13+J13+L13) -> 0 | O13: =IF(N13<>1,"Conferir porcentagens estipuladas","") -> Conferir porcentagens estipuladas
A14: 1.4 | B14: RUA MARIA GERALDA VIEIRA | D14: ='Planilha Não Desonerada'!I26 -> 0 | E14: =D14/$D$27 -> #DIV/0! | G14: =F14 -> 0 | I14: =H14+G14 -> 0 | K14: =J14+I14 -> 0 | M14: =L14+K14 -> 0 | N14: =SUM(F14+H14+J14+L14) -> 0 | O14: =IF(N14<>1,"Conferir porcentagens estipuladas","") -> Conferir porcentagens estipuladas
A15: 1.5 | B15: RUA THEREZINHA VALADARES SOARES | D15: ='Planilha Não Desonerada'!I32 -> 0 | E15: =D15/$D$27 -> #DIV/0! | G15: =F15 -> 0 | I15: =H15+G15 -> 0 | K15: =J15+I15 -> 0 | M15: =L15+K15 -> 0 | N15: =SUM(F15+H15+J15+L15) -> 0 | O15: =IF(N15<>1,"Conferir porcentagens estipuladas","") -> Conferir porcentagens estipuladas
A16: 1.6 | B16: ACESSO | D16: ='Planilha Não Desonerada'!I38 -> 0 | E16: =D16/$D$27 -> #DIV/0! | G16: =F16 -> 0 | I16: =H16+G16 -> 0 | K16: =J16+I16 -> 0 | M16: =L16+K16 -> 0 | N16: =SUM(F16+H16+J16+L16) -> 0 | O16: =IF(N16<>1,"Conferir porcentagens estipuladas","") -> Conferir porcentagens estipuladas
A17: 2.0 | B17: BAIRRO CENTRO
A18: 2.1 | B18: SERVIÇOS PRELIMINARES | D18: ='Planilha Não Desonerada'!I45 -> 0 | E18: =D18/$D$27 -> #DIV/0! | G18: =F18 -> 0 | I18: =H18+G18 -> 0 | K18: =J18+I18 -> 0 | M18: =L18+K18 -> 0 | N18: =SUM(F18+H18+J18+L18) -> 0 | O18: =IF(N18<>1,"Conferir porcentagens estipuladas","") -> Conferir porcentagens estipuladas
A19: 2.2 | B19: RUA DALMO FERNANDES LAMA | D19: ='Planilha Não Desonerada'!I47 -> 0 | E19: =D19/$D$27 -> #DIV/0! | G19: =F19 -> 0 | I19: =H19+G19 -> 0 | K19: =J19+I19 -> 0 | M19: =L19+K19 -> 0 | N19: =SUM(F19+H19+J19+L19) -> 0 | O19: =IF(N19<>1,"Conferir porcentagens estipuladas","") -> Conferir porcentagens estipuladas
A20: 2.3 | B20: RUA JOÃO ROQUE NETO | D20: ='Planilha Não Desonerada'!I53 -> 0 | E20: =D20/$D$27 -> #DIV/0! | G20: =F20 -> 0 | I20: =H20+G20 -> 0 | K20: =J20+I20 -> 0 | M20: =L20+K20 -> 0 | N20: =SUM(F20+H20+J20+L20) -> 0 | O20: =IF(N20<>1,"Conferir porcentagens estipuladas","") -> Conferir porcentagens estipuladas
A21: 2.4 | B21: RUA JOSÉ DA SILVA | D21: ='Planilha Não Desonerada'!I59 -> 0 | E21: =D21/$D$27 -> #DIV/0! | G21: =F21 -> 0 | I21: =H21+G21 -> 0 | K21: =J21+I21 -> 0 | M21: =L21+K21 -> 0 | N21: =SUM(F21+H21+J21+L21) -> 0 | O21: =IF(N21<>1,"Conferir porcentagens estipuladas","") -> Conferir porcentagens estipuladas
A22: 2.5 | B22: RUA TOPÁZIO | D22: ='Planilha Não Desonerada'!I65 -> 0 | E22: =D22/$D$27 -> #DIV/0! | G22: =F22 -> 0 | I22: =H22+G22 -> 0 | K22: =J22+I22 -> 0 | M22: =L22+K22 -> 0 | N22: =SUM(F22+H22+J22+L22) -> 0 | O22: =IF(N22<>1,"Conferir porcentagens estipuladas","") -> Conferir porcentagens estipuladas
A23: 2.6 | B23: RUA NÉLIO RAIMUNDO | D23: ='Planilha Não Desonerada'!I71 -> 0 | E23: =D23/$D$27 -> #DIV/0! | G23: =F23 -> 0 | I23: =H23+G23 -> 0 | K23: =J23+I23 -> 0 | M23: =L23+K23 -> 0 | N23: =SUM(F23+H23+J23+L23) -> 0 | O23: =IF(N23<>1,"Conferir porcentagens estipuladas","") -> Conferir porcentagens estipuladas
A24: 2.7 | B24: RUA ADOLFELIM CORRÊA | D24: ='Planilha Não Desonerada'!I77 -> 0 | E24: =D24/$D$27 -> #DIV/0! | G24: =F24 -> 0 | I24: =H24+G24 -> 0 | K24: =J24+I24 -> 0 | M24: =L24+K24 -> 0 | N24: =SUM(F24+H24+J24+L24) -> 0 | O24: =IF(N24<>1,"Conferir porcentagens estipuladas","") -> Conferir porcentagens estipuladas
A25: 2.8 | B25: RUA AMUS VECH | D25: ='Planilha Não Desonerada'!I83 -> 0 | E25: =D25/$D$27 -> #DIV/0! | G25: =F25 -> 0 | I25: =H25+G25 -> 0 | K25: =J25+I25 -> 0 | M25: =L25+K25 -> 0 | N25: =SUM(F25+H25+J25+L25) -> 0 | O25: =IF(N25<>1,"Conferir porcentagens estipuladas","") -> Conferir porcentagens estipuladas
A26: TOTAL EM PERCENTUAL: | E26: =SUM(E10:E25) -> #DIV/0! | F26: =F27/$D$27 -> #DIV/0! | G26: =G27/$D$27 -> #DIV/0! | H26: =H27/$D$27 -> #DIV/0! | I26: =I27/$D$27 -> #DIV/0! | J26: =J27/$D$27 -> #DIV/0! | K26: =K27/$D$27 -> #DIV/0! | L26: =L27/$D$27 -> #DIV/0! | M26: =M27/$D$27 -> #DIV/0!
A27: TOTAL EM REAIS: | D27: =SUM(D10:D25) -> 0 | F27: =F10*$D10+F11*$D11+F12*$D12+F13*$D13+F14*$D14+F15*$D15+F16*$D16+F18*$D18+$D19*F19+$D20*F20+$D21*F21+$D22*F22+$D23*F23+$D24*F24+$D25*F25 -> 0 | G27: =F27 -> 0 | H27: =H10*$D10+H11*$D11+H12*$D12+H13*$D13+H14*$D14+H15*$D15+H16*$D16+H18*$D18+$D19*H19+$D20*H20+$D21*H21+$D22*H22+$D23*H23+$D24*H24+$D25*H25 -> 0 | I27: =H27+G27 -> 0 | J27: =J10*$D10+J11*$D11+J12*$D12+J13*$D13+J14*$D14+J15*$D15+J16*$D16+J18*$D18+$D19*J19+$D20*J20+$D21*J21+$D22*J22+$D23*J23+$D24*J24+$D25*J25 -> 0 | K27: =J27+I27 -> 0 | L27: =L10*$D10+L11*$D11+L12*$D12+L13*$D13+L14*$D14+L15*$D15+L16*$D16+L18*$D18+$D19*L19+$D20*L20+$D21*L21+$D22*L22+$D23*L23+$D24*L24+$D25*L25 -> 0 | M27: =L27+K27 -> 0
A30: PIRAUBA/ MG | D30: =TODAY() -> 44658
D35: [nome do engenheiro Responsável Técnico da empresa] | I35: [nome do Representante Legal da empresa]
D36: ENGENHEIRO CIVIL | I36: REPRESENTANTE LEGAL
D37: CREA XXXXXX/D
